BEGIN:VCALENDAR
VERSION:2.0
PRODID:-//Cannes cigares club - ECPv6.15.20//NONSGML v1.0//EN
CALSCALE:GREGORIAN
METHOD:PUBLISH
X-WR-CALNAME:Cannes cigares club
X-ORIGINAL-URL:https://cannescigaresclub.com
X-WR-CALDESC:Évènements pour Cannes cigares club
REFRESH-INTERVAL;VALUE=DURATION:PT1H
X-Robots-Tag:noindex
X-PUBLISHED-TTL:PT1H
BEGIN:VTIMEZONE
TZID:Europe/Paris
BEGIN:DAYLIGHT
TZOFFSETFROM:+0100
TZOFFSETTO:+0200
TZNAME:CEST
DTSTART:20230326T010000
END:DAYLIGHT
BEGIN:STANDARD
TZOFFSETFROM:+0200
TZOFFSETTO:+0100
TZNAME:CET
DTSTART:20231029T010000
END:STANDARD
BEGIN:DAYLIGHT
TZOFFSETFROM:+0100
TZOFFSETTO:+0200
TZNAME:CEST
DTSTART:20240331T010000
END:DAYLIGHT
BEGIN:STANDARD
TZOFFSETFROM:+0200
TZOFFSETTO:+0100
TZNAME:CET
DTSTART:20241027T010000
END:STANDARD
BEGIN:DAYLIGHT
TZOFFSETFROM:+0100
TZOFFSETTO:+0200
TZNAME:CEST
DTSTART:20250330T010000
END:DAYLIGHT
BEGIN:STANDARD
TZOFFSETFROM:+0200
TZOFFSETTO:+0100
TZNAME:CET
DTSTART:20251026T010000
END:STANDARD
END:VTIMEZONE
BEGIN:VEVENT
DTSTART;TZID=Europe/Paris:20240502T193000
DTEND;TZID=Europe/Paris:20240502T233000
DTSTAMP:20260420T224121
CREATED:20240421T180111Z
LAST-MODIFIED:20240502T155849Z
UID:71839-1714678200-1714692600@cannescigaresclub.com
SUMMARY:Soirée exclusive au restaurant "Le repère"
DESCRIPTION:Chers Amis\, chers membres \nNous avons le plaisir d’organiser la soirée du Jeudi 2 Mai prochain dans un endroit magique « Le repère au Port de la Rague » à Mandelieu la Napoule ( Nous serons bord de mer en extérieur). En partenariat avec une maison de cigares cubaine renommée\, nous vous convions à une soirée raffinée alliant gastronomie exquise et délices fumés.\nLa soirée sera à 170€ et 120€ pour les membres Pouvez-vous nous confirmer votre présence au plus tard le lundi 30 avril avant 14h.\nConcernant les amis ou connaissances que vous souhaiteriez convier à cette soirée\, merci de nous en avertir également. \nÀ bientôt « Cigarementvotre »
URL:https://cannescigaresclub.com/evenement/soiree-exclusive-au-restaurant-le-repere/
LOCATION:Le repère\, Port de la Rague\, Mandelieu-La Napoule\, 06210\, France
ATTACH;FMTTYPE=image/jpeg:https://cannescigaresclub.com/wp-content/uploads/2024/04/le-repere.jpg
END:VEVENT
END:VCALENDAR