BEGIN:VCALENDAR
VERSION:2.0
PRODID:-//Cannes cigares club - ECPv6.15.20//NONSGML v1.0//EN
CALSCALE:GREGORIAN
METHOD:PUBLISH
X-ORIGINAL-URL:https://cannescigaresclub.com
X-WR-CALDESC:Évènements pour Cannes cigares club
REFRESH-INTERVAL;VALUE=DURATION:PT1H
X-Robots-Tag:noindex
X-PUBLISHED-TTL:PT1H
BEGIN:VTIMEZONE
TZID:Europe/Paris
BEGIN:DAYLIGHT
TZOFFSETFROM:+0100
TZOFFSETTO:+0200
TZNAME:CEST
DTSTART:20230326T010000
END:DAYLIGHT
BEGIN:STANDARD
TZOFFSETFROM:+0200
TZOFFSETTO:+0100
TZNAME:CET
DTSTART:20231029T010000
END:STANDARD
BEGIN:DAYLIGHT
TZOFFSETFROM:+0100
TZOFFSETTO:+0200
TZNAME:CEST
DTSTART:20240331T010000
END:DAYLIGHT
BEGIN:STANDARD
TZOFFSETFROM:+0200
TZOFFSETTO:+0100
TZNAME:CET
DTSTART:20241027T010000
END:STANDARD
BEGIN:DAYLIGHT
TZOFFSETFROM:+0100
TZOFFSETTO:+0200
TZNAME:CEST
DTSTART:20250330T010000
END:DAYLIGHT
BEGIN:STANDARD
TZOFFSETFROM:+0200
TZOFFSETTO:+0100
TZNAME:CET
DTSTART:20251026T010000
END:STANDARD
END:VTIMEZONE
BEGIN:VEVENT
DTSTART;TZID=Europe/Paris:20241010T193000
DTEND;TZID=Europe/Paris:20241010T233000
DTSTAMP:20260420T163227
CREATED:20240927T080947Z
LAST-MODIFIED:20240927T091140Z
UID:72213-1728588600-1728603000@cannescigaresclub.com
SUMMARY:Soirée à l'hôtel Belle plage
DESCRIPTION:Pour cette occasion nous avons privatisé une villa belle époque de l’hôtel Belle Plage à Cannes.\nNous profiterons du jardin méditerranéen et de l’intimité du lieu habituellement réservé à de grandes réceptions.\nVous profiterez d’un repas complet préparé par le chef\, et accompagné de vins et liqueurs.\nÀ l’occasion de ce moment nous dégusterons 2 cigares\, quelque chose de léger à l’apéritif\, puis une vitole de fin de repas.\nLa soirée est ouverte aux non membres du Cannes Cigares Club sous conditions\, contactez-nous pour de plus amples informations.\nDRESS CODE : CASUAL CHIC \nImportant : pensez à réserver votre place avant l’événement ! \nJe réserve ma place
URL:https://cannescigaresclub.com/evenement/soiree-a-lhotel-belle-plage/
LOCATION:hotel belle plage\, 2 Rue Brougham\, Cannes\, 06400\, France
ATTACH;FMTTYPE=image/webp:https://cannescigaresclub.com/wp-content/uploads/2024/09/BELLE_PLAGE5795.webp
END:VEVENT
END:VCALENDAR