BEGIN:VCALENDAR
VERSION:2.0
PRODID:-//Cannes cigares club - ECPv6.15.20//NONSGML v1.0//EN
CALSCALE:GREGORIAN
METHOD:PUBLISH
X-WR-CALNAME:Cannes cigares club
X-ORIGINAL-URL:https://cannescigaresclub.com
X-WR-CALDESC:Évènements pour Cannes cigares club
REFRESH-INTERVAL;VALUE=DURATION:PT1H
X-Robots-Tag:noindex
X-PUBLISHED-TTL:PT1H
BEGIN:VTIMEZONE
TZID:Europe/Paris
BEGIN:DAYLIGHT
TZOFFSETFROM:+0100
TZOFFSETTO:+0200
TZNAME:CEST
DTSTART:20230326T010000
END:DAYLIGHT
BEGIN:STANDARD
TZOFFSETFROM:+0200
TZOFFSETTO:+0100
TZNAME:CET
DTSTART:20231029T010000
END:STANDARD
BEGIN:DAYLIGHT
TZOFFSETFROM:+0100
TZOFFSETTO:+0200
TZNAME:CEST
DTSTART:20240331T010000
END:DAYLIGHT
BEGIN:STANDARD
TZOFFSETFROM:+0200
TZOFFSETTO:+0100
TZNAME:CET
DTSTART:20241027T010000
END:STANDARD
BEGIN:DAYLIGHT
TZOFFSETFROM:+0100
TZOFFSETTO:+0200
TZNAME:CEST
DTSTART:20250330T010000
END:DAYLIGHT
BEGIN:STANDARD
TZOFFSETFROM:+0200
TZOFFSETTO:+0100
TZNAME:CET
DTSTART:20251026T010000
END:STANDARD
END:VTIMEZONE
BEGIN:VEVENT
DTSTART;TZID=Europe/Paris:20240606T193000
DTEND;TZID=Europe/Paris:20240606T233000
DTSTAMP:20260420T223232
CREATED:20240521T191349Z
LAST-MODIFIED:20240521T191349Z
UID:72148-1717702200-1717716600@cannescigaresclub.com
SUMMARY:Soirée au Rado plage
DESCRIPTION:Rendez-vous sur la croisette à RADO PLAGE à Cannes pour une nouvelle soirée de dégustations.\nL’élégance du lieu vous ravira\, vos papilles seront comblées\, et votre appétit rassasié. Nous fumerons un premier cigare d’apéritif autour d’une coupe de champagne.\nLe repas évoluera sur des notes entre terre et mer\, avec des plats soigneusement élaborés. Le cigare de cérémonie accompagnera des notes sucrées et un digestif.\nNous aurons la chance d’être accompagnés par une maison de cigares.\nLa soirée est ouverte aux non membres du Cannes Cigares Club sous conditions\, contactez-nous pour de plus amples informations.
URL:https://cannescigaresclub.com/evenement/soiree-au-rado-plage/
LOCATION:rado plage cannes\, Boulevard de la Croisette Entre le Carlton et le Miramar\, Cannes\, 06400\, France
ATTACH;FMTTYPE=image/png:https://cannescigaresclub.com/wp-content/uploads/2024/05/RADO-PLAGE.png
END:VEVENT
END:VCALENDAR